BEGIN:VCALENDAR
VERSION:2.0
PRODID:-//Falkenhainer SV 1898 e.V. - ECPv6.15.20//NONSGML v1.0//EN
CALSCALE:GREGORIAN
METHOD:PUBLISH
X-WR-CALNAME:Falkenhainer SV 1898 e.V.
X-ORIGINAL-URL:https://www.falkenhainer-sv.de
X-WR-CALDESC:Veranstaltungen für Falkenhainer SV 1898 e.V.
REFRESH-INTERVAL;VALUE=DURATION:PT1H
X-Robots-Tag:noindex
X-PUBLISHED-TTL:PT1H
BEGIN:VTIMEZONE
TZID:Europe/Berlin
BEGIN:DAYLIGHT
TZOFFSETFROM:+0100
TZOFFSETTO:+0200
TZNAME:CEST
DTSTART:20240331T010000
END:DAYLIGHT
BEGIN:STANDARD
TZOFFSETFROM:+0200
TZOFFSETTO:+0100
TZNAME:CET
DTSTART:20241027T010000
END:STANDARD
BEGIN:DAYLIGHT
TZOFFSETFROM:+0100
TZOFFSETTO:+0200
TZNAME:CEST
DTSTART:20250330T010000
END:DAYLIGHT
BEGIN:STANDARD
TZOFFSETFROM:+0200
TZOFFSETTO:+0100
TZNAME:CET
DTSTART:20251026T010000
END:STANDARD
BEGIN:DAYLIGHT
TZOFFSETFROM:+0100
TZOFFSETTO:+0200
TZNAME:CEST
DTSTART:20260329T010000
END:DAYLIGHT
BEGIN:STANDARD
TZOFFSETFROM:+0200
TZOFFSETTO:+0100
TZNAME:CET
DTSTART:20261025T010000
END:STANDARD
END:VTIMEZONE
BEGIN:VEVENT
DTSTART;TZID=Europe/Berlin:20250607T140000
DTEND;TZID=Europe/Berlin:20250607T230000
DTSTAMP:20260420T093758
CREATED:20250504T105107Z
LAST-MODIFIED:20250504T105107Z
UID:2268-1749304800-1749337200@www.falkenhainer-sv.de
SUMMARY:Dart - Pfingsturnier
DESCRIPTION:
URL:https://www.falkenhainer-sv.de/event/dart-pfingsturnier/
LOCATION:Sachsen
CATEGORIES:Dart
END:VEVENT
BEGIN:VEVENT
DTSTART;VALUE=DATE:20250613
DTEND;VALUE=DATE:20250614
DTSTAMP:20260420T093758
CREATED:20241120T053039Z
LAST-MODIFIED:20241120T053039Z
UID:2082-1749772800-1749859199@www.falkenhainer-sv.de
SUMMARY:Turnen - Mini- Kreis Kinder- und Jugendspiele
DESCRIPTION:
URL:https://www.falkenhainer-sv.de/event/turnen-mini-kreis-kinder-und-jugendspiele/
LOCATION:Sachsen
CATEGORIES:Gerätturnen
END:VEVENT
BEGIN:VEVENT
DTSTART;VALUE=DATE:20250614
DTEND;VALUE=DATE:20250615
DTSTAMP:20260420T093758
CREATED:20241120T051524Z
LAST-MODIFIED:20241120T051807Z
UID:2056-1749859200-1749945599@www.falkenhainer-sv.de
SUMMARY:Volleyball - Sommerturnier
DESCRIPTION:
URL:https://www.falkenhainer-sv.de/event/volleyball-sommerturnier/
LOCATION:Sachsen
CATEGORIES:Volleyball
END:VEVENT
END:VCALENDAR