BEGIN:VCALENDAR
VERSION:2.0
PRODID:-//Falkenhainer SV 1898 e.V. - ECPv6.15.20//NONSGML v1.0//EN
CALSCALE:GREGORIAN
METHOD:PUBLISH
X-WR-CALNAME:Falkenhainer SV 1898 e.V.
X-ORIGINAL-URL:https://www.falkenhainer-sv.de
X-WR-CALDESC:Veranstaltungen für Falkenhainer SV 1898 e.V.
REFRESH-INTERVAL;VALUE=DURATION:PT1H
X-Robots-Tag:noindex
X-PUBLISHED-TTL:PT1H
BEGIN:VTIMEZONE
TZID:Europe/Berlin
BEGIN:DAYLIGHT
TZOFFSETFROM:+0100
TZOFFSETTO:+0200
TZNAME:CEST
DTSTART:20230326T010000
END:DAYLIGHT
BEGIN:STANDARD
TZOFFSETFROM:+0200
TZOFFSETTO:+0100
TZNAME:CET
DTSTART:20231029T010000
END:STANDARD
BEGIN:DAYLIGHT
TZOFFSETFROM:+0100
TZOFFSETTO:+0200
TZNAME:CEST
DTSTART:20240331T010000
END:DAYLIGHT
BEGIN:STANDARD
TZOFFSETFROM:+0200
TZOFFSETTO:+0100
TZNAME:CET
DTSTART:20241027T010000
END:STANDARD
BEGIN:DAYLIGHT
TZOFFSETFROM:+0100
TZOFFSETTO:+0200
TZNAME:CEST
DTSTART:20250330T010000
END:DAYLIGHT
BEGIN:STANDARD
TZOFFSETFROM:+0200
TZOFFSETTO:+0100
TZNAME:CET
DTSTART:20251026T010000
END:STANDARD
BEGIN:DAYLIGHT
TZOFFSETFROM:+0100
TZOFFSETTO:+0200
TZNAME:CEST
DTSTART:20260329T010000
END:DAYLIGHT
BEGIN:STANDARD
TZOFFSETFROM:+0200
TZOFFSETTO:+0100
TZNAME:CET
DTSTART:20261025T010000
END:STANDARD
BEGIN:DAYLIGHT
TZOFFSETFROM:+0100
TZOFFSETTO:+0200
TZNAME:CEST
DTSTART:20270328T010000
END:DAYLIGHT
BEGIN:STANDARD
TZOFFSETFROM:+0200
TZOFFSETTO:+0100
TZNAME:CET
DTSTART:20271031T010000
END:STANDARD
END:VTIMEZONE
BEGIN:VEVENT
DTSTART;TZID=Europe/Berlin:20260314T080000
DTEND;TZID=Europe/Berlin:20260314T180000
DTSTAMP:20260419T172518
CREATED:20260213T170805Z
LAST-MODIFIED:20260213T171400Z
UID:2436-1773475200-1773511200@www.falkenhainer-sv.de
SUMMARY:56.  Karl-Haupt-Turnen
DESCRIPTION:
URL:https://www.falkenhainer-sv.de/event/56-karl-haupt-turnen/
LOCATION:Sportplatz Falkenhain\, Am Nieschweg 7\, Falkenhain\, Sachsen\, 04808\, Germany
CATEGORIES:Gerätturnen
ORGANIZER;CN="Falkenhainer SV - Turnen":MAILTO:grit.haide@t-online.de
END:VEVENT
BEGIN:VEVENT
DTSTART;VALUE=DATE:20260312
DTEND;VALUE=DATE:20260314
DTSTAMP:20260419T172518
CREATED:20260213T173113Z
LAST-MODIFIED:20260213T173113Z
UID:2448-1773273600-1773446399@www.falkenhainer-sv.de
SUMMARY:Jugend trainiert für Olympia
DESCRIPTION:
URL:https://www.falkenhainer-sv.de/event/jugend-trainiert-fuer-olympia/
LOCATION:Sportplatz Falkenhain\, Am Nieschweg 7\, Falkenhain\, Sachsen\, 04808\, Germany
CATEGORIES:Gerätturnen
ORGANIZER;CN="Falkenhainer SV - Turnen":MAILTO:grit.haide@t-online.de
END:VEVENT
BEGIN:VEVENT
DTSTART;VALUE=DATE:20260124
DTEND;VALUE=DATE:20260125
DTSTAMP:20260419T172519
CREATED:20250504T110626Z
LAST-MODIFIED:20250504T110626Z
UID:2282-1769212800-1769299199@www.falkenhainer-sv.de
SUMMARY:Fussball - Hallenturnier Alte Herren
DESCRIPTION:
URL:https://www.falkenhainer-sv.de/event/fussball-hallenturnier-alte-herren/
LOCATION:Sachsen
END:VEVENT
BEGIN:VEVENT
DTSTART;VALUE=DATE:20260110
DTEND;VALUE=DATE:20260111
DTSTAMP:20260419T172519
CREATED:20250504T110546Z
LAST-MODIFIED:20250504T110546Z
UID:2280-1768003200-1768089599@www.falkenhainer-sv.de
SUMMARY:Fussball - Hallenturnier Herren
DESCRIPTION:
URL:https://www.falkenhainer-sv.de/event/fussball-hallenturnier-herren/
LOCATION:Sachsen
END:VEVENT
BEGIN:VEVENT
DTSTART;VALUE=DATE:20260103
DTEND;VALUE=DATE:20260104
DTSTAMP:20260419T172519
CREATED:20250504T105817Z
LAST-MODIFIED:20250504T105817Z
UID:2272-1767398400-1767484799@www.falkenhainer-sv.de
SUMMARY:Dart - 2. Falkenhainer Neujahrs Doppel
DESCRIPTION:
URL:https://www.falkenhainer-sv.de/event/dart-2-falkenhainer-neujahrs-doppel/
LOCATION:Sachsen
END:VEVENT
BEGIN:VEVENT
DTSTART;TZID=Europe/Berlin:20251228T100000
DTEND;TZID=Europe/Berlin:20251228T200000
DTSTAMP:20260419T172519
CREATED:20251214T155329Z
LAST-MODIFIED:20251214T181049Z
UID:2381-1766916000-1766952000@www.falkenhainer-sv.de
SUMMARY:Skatturnier 2025 – Reizen bis der König lacht!
DESCRIPTION:♠️♥️♣️♦️ \nAm 28.12.2025 heißt es wieder:\nKarten mischen\, Augen kneifen\, Trumpf ansagen! 🎴 \n⏰ Start: 10 Uhr\n🍴 Pause: Natürlich mit Stärkung – niemand spielt gern mit leerem Blatt 😉\n📍 Ort: Empore im Sportzentrum \nOb Grand\, Null oder „Ich hab’s gleich gewusst!“ –\nhier wird gezockt\, gelacht und fachmännisch kommentiert! 🃏😄 \n🎯 Kurz gesagt:\nGute Karten\, gutes Essen\, gute Laune! 🎉🍻
URL:https://www.falkenhainer-sv.de/event/skatturnier-2025-reizen-bis-der-koenig-lacht/
LOCATION:Sporthalle Falkenhain\, Am Sportplatz 26\, Falkenhain\, 04808\, Deutschland
CATEGORIES:Dart,Fussball,Gerätturnen,Gymnastik,Kegeln,Schach,Tischtennis,Volleyball,Wandern
ORGANIZER;CN="Falkenhainer SV":MAILTO:info@falkenhainer-sv.de
END:VEVENT
BEGIN:VEVENT
DTSTART;VALUE=DATE:20251213
DTEND;VALUE=DATE:20251215
DTSTAMP:20260419T172519
CREATED:20241120T052323Z
LAST-MODIFIED:20250504T105203Z
UID:2071-1765584000-1765756799@www.falkenhainer-sv.de
SUMMARY:Fussball - Kinderhallenturnier
DESCRIPTION:
URL:https://www.falkenhainer-sv.de/event/fussball-kinderhallenturnier/
LOCATION:Sachsen
CATEGORIES:Fussball
END:VEVENT
BEGIN:VEVENT
DTSTART;VALUE=DATE:20251129
DTEND;VALUE=DATE:20251130
DTSTAMP:20260419T172519
CREATED:20241120T052520Z
LAST-MODIFIED:20241120T052520Z
UID:2073-1764374400-1764460799@www.falkenhainer-sv.de
SUMMARY:Turnen - Weihnachtsschauturnen
DESCRIPTION:
URL:https://www.falkenhainer-sv.de/event/turnen-weihnachtsschauturnen-2/
LOCATION:Sachsen
CATEGORIES:Gerätturnen
END:VEVENT
BEGIN:VEVENT
DTSTART;VALUE=DATE:20251101
DTEND;VALUE=DATE:20251102
DTSTAMP:20260419T172519
CREATED:20241120T051658Z
LAST-MODIFIED:20250918T025744Z
UID:2060-1761955200-1762041599@www.falkenhainer-sv.de
SUMMARY:Volleyball - Schokoladenturnier
DESCRIPTION:
URL:https://www.falkenhainer-sv.de/event/volleyball-schokoladenturnier-2/
LOCATION:Sachsen
CATEGORIES:Volleyball
END:VEVENT
BEGIN:VEVENT
DTSTART;VALUE=DATE:20250927
DTEND;VALUE=DATE:20250928
DTSTAMP:20260419T172519
CREATED:20241120T051610Z
LAST-MODIFIED:20241120T051610Z
UID:2058-1758931200-1759017599@www.falkenhainer-sv.de
SUMMARY:Vollyball - Jugendturnier
DESCRIPTION:
URL:https://www.falkenhainer-sv.de/event/vollyball-jugendturnier/
LOCATION:Sachsen
CATEGORIES:Volleyball
END:VEVENT
BEGIN:VEVENT
DTSTART;TZID=Europe/Berlin:20250817T100000
DTEND;TZID=Europe/Berlin:20250817T190000
DTSTAMP:20260419T172519
CREATED:20250504T105546Z
LAST-MODIFIED:20250504T105546Z
UID:2270-1755424800-1755457200@www.falkenhainer-sv.de
SUMMARY:Dart - Youth CUP
DESCRIPTION:
URL:https://www.falkenhainer-sv.de/event/dart-youth-cup/
LOCATION:Sachsen
END:VEVENT
BEGIN:VEVENT
DTSTART;VALUE=DATE:20250816
DTEND;VALUE=DATE:20250817
DTSTAMP:20260419T172519
CREATED:20241120T050628Z
LAST-MODIFIED:20250504T105633Z
UID:2041-1755302400-1755388799@www.falkenhainer-sv.de
SUMMARY:Dart - 2. Lossataler Dart-CUP
DESCRIPTION:
URL:https://www.falkenhainer-sv.de/event/2-lossataler-dart-cup/
LOCATION:Sachsen
CATEGORIES:Dart
END:VEVENT
BEGIN:VEVENT
DTSTART;VALUE=DATE:20250727
DTEND;VALUE=DATE:20250802
DTSTAMP:20260419T172519
CREATED:20241120T053131Z
LAST-MODIFIED:20241120T053131Z
UID:2084-1753574400-1754092799@www.falkenhainer-sv.de
SUMMARY:Turnen - Trainingslager
DESCRIPTION:
URL:https://www.falkenhainer-sv.de/event/turnen-trainingslager-2/
LOCATION:Sachsen
CATEGORIES:Gerätturnen
END:VEVENT
BEGIN:VEVENT
DTSTART;VALUE=DATE:20250614
DTEND;VALUE=DATE:20250615
DTSTAMP:20260419T172519
CREATED:20241120T051524Z
LAST-MODIFIED:20241120T051807Z
UID:2056-1749859200-1749945599@www.falkenhainer-sv.de
SUMMARY:Volleyball - Sommerturnier
DESCRIPTION:
URL:https://www.falkenhainer-sv.de/event/volleyball-sommerturnier/
LOCATION:Sachsen
CATEGORIES:Volleyball
END:VEVENT
BEGIN:VEVENT
DTSTART;VALUE=DATE:20250613
DTEND;VALUE=DATE:20250614
DTSTAMP:20260419T172519
CREATED:20241120T053039Z
LAST-MODIFIED:20241120T053039Z
UID:2082-1749772800-1749859199@www.falkenhainer-sv.de
SUMMARY:Turnen - Mini- Kreis Kinder- und Jugendspiele
DESCRIPTION:
URL:https://www.falkenhainer-sv.de/event/turnen-mini-kreis-kinder-und-jugendspiele/
LOCATION:Sachsen
CATEGORIES:Gerätturnen
END:VEVENT
BEGIN:VEVENT
DTSTART;TZID=Europe/Berlin:20250607T140000
DTEND;TZID=Europe/Berlin:20250607T230000
DTSTAMP:20260419T172519
CREATED:20250504T105107Z
LAST-MODIFIED:20250504T105107Z
UID:2268-1749304800-1749337200@www.falkenhainer-sv.de
SUMMARY:Dart - Pfingsturnier
DESCRIPTION:
URL:https://www.falkenhainer-sv.de/event/dart-pfingsturnier/
LOCATION:Sachsen
CATEGORIES:Dart
END:VEVENT
BEGIN:VEVENT
DTSTART;VALUE=DATE:20250529
DTEND;VALUE=DATE:20250530
DTSTAMP:20260419T172519
CREATED:20241120T050858Z
LAST-MODIFIED:20241120T051844Z
UID:2047-1748476800-1748563199@www.falkenhainer-sv.de
SUMMARY:Fussball - Männertagsturnier
DESCRIPTION:
URL:https://www.falkenhainer-sv.de/event/maennertagsturnier/
LOCATION:Sachsen
CATEGORIES:Fussball
END:VEVENT
BEGIN:VEVENT
DTSTART;VALUE=DATE:20250524
DTEND;VALUE=DATE:20250525
DTSTAMP:20260419T172519
CREATED:20241120T052959Z
LAST-MODIFIED:20241120T052959Z
UID:2080-1748044800-1748131199@www.falkenhainer-sv.de
SUMMARY:Turnen - Kreis Kinder- und Jugendspiele
DESCRIPTION:
URL:https://www.falkenhainer-sv.de/event/turnen-kreis-kinder-und-jugendspiele/
LOCATION:Sachsen
CATEGORIES:Gerätturnen
END:VEVENT
BEGIN:VEVENT
DTSTART;VALUE=DATE:20250412
DTEND;VALUE=DATE:20250413
DTSTAMP:20260419T172519
CREATED:20241120T050253Z
LAST-MODIFIED:20241120T051914Z
UID:2039-1744416000-1744502399@www.falkenhainer-sv.de
SUMMARY:Dart - 3. Falkenhainer Osterturnier
DESCRIPTION:
URL:https://www.falkenhainer-sv.de/event/3-falkenhainer-osterturnier/
LOCATION:Sachsen
CATEGORIES:Dart
END:VEVENT
BEGIN:VEVENT
DTSTART;VALUE=DATE:20250315
DTEND;VALUE=DATE:20250316
DTSTAMP:20260419T172519
CREATED:20241120T052917Z
LAST-MODIFIED:20241120T052917Z
UID:2078-1741996800-1742083199@www.falkenhainer-sv.de
SUMMARY:Turnen - 55. Karl-Haupt-Turnen
DESCRIPTION:
URL:https://www.falkenhainer-sv.de/event/turnen-55-karl-haupt-turnen/
LOCATION:Sachsen
CATEGORIES:Gerätturnen
END:VEVENT
BEGIN:VEVENT
DTSTART;VALUE=DATE:20250313
DTEND;VALUE=DATE:20250315
DTSTAMP:20260419T172519
CREATED:20241120T052747Z
LAST-MODIFIED:20241120T052822Z
UID:2075-1741824000-1741996799@www.falkenhainer-sv.de
SUMMARY:Turnen - Jugend trainiert für Olympia - Landesfinale
DESCRIPTION:
URL:https://www.falkenhainer-sv.de/event/turnen-jugend-trainiert-fuer-olympia-regionalschulamtsfinale/
LOCATION:Sachsen
CATEGORIES:Gerätturnen
END:VEVENT
BEGIN:VEVENT
DTSTART;VALUE=DATE:20250125
DTEND;VALUE=DATE:20250127
DTSTAMP:20260419T172519
CREATED:20241120T050800Z
LAST-MODIFIED:20241120T051956Z
UID:2045-1737763200-1737935999@www.falkenhainer-sv.de
SUMMARY:Fussball - Alte Herren Turnier
DESCRIPTION:
URL:https://www.falkenhainer-sv.de/event/fussballturnier-alte-herren/
LOCATION:Sachsen
CATEGORIES:Fussball
END:VEVENT
BEGIN:VEVENT
DTSTART;VALUE=DATE:20250111
DTEND;VALUE=DATE:20250113
DTSTAMP:20260419T172519
CREATED:20241120T050717Z
LAST-MODIFIED:20241120T052035Z
UID:2043-1736553600-1736726399@www.falkenhainer-sv.de
SUMMARY:Fussball - Herren Turnier
DESCRIPTION:
URL:https://www.falkenhainer-sv.de/event/fussballturnier-herren/
LOCATION:Sachsen
CATEGORIES:Fussball
END:VEVENT
BEGIN:VEVENT
DTSTART;VALUE=DATE:20250104
DTEND;VALUE=DATE:20250105
DTSTAMP:20260419T172519
CREATED:20241120T050014Z
LAST-MODIFIED:20241120T052135Z
UID:2036-1735948800-1736035199@www.falkenhainer-sv.de
SUMMARY:Dart - 1. Lossataler Neujahrs-Doppel
DESCRIPTION:
URL:https://www.falkenhainer-sv.de/event/1-lossataler-neujahrs-doppel/
LOCATION:Sachsen
CATEGORIES:Dart
END:VEVENT
BEGIN:VEVENT
DTSTART;TZID=Europe/Berlin:20241229T100000
DTEND;TZID=Europe/Berlin:20241229T170000
DTSTAMP:20260419T172519
CREATED:20241120T051120Z
LAST-MODIFIED:20241120T052208Z
UID:2051-1735466400-1735491600@www.falkenhainer-sv.de
SUMMARY:Verein - Skatturnier
DESCRIPTION:
URL:https://www.falkenhainer-sv.de/event/skatturnier/
LOCATION:Sachsen
END:VEVENT
BEGIN:VEVENT
DTSTART;VALUE=DATE:20241214
DTEND;VALUE=DATE:20241216
DTSTAMP:20260419T172519
CREATED:20241120T050939Z
LAST-MODIFIED:20241120T052239Z
UID:2049-1734134400-1734307199@www.falkenhainer-sv.de
SUMMARY:Fussball - Kinderhallenturnier
DESCRIPTION:
URL:https://www.falkenhainer-sv.de/event/kinderhallenturnier/
LOCATION:Sachsen
CATEGORIES:Fussball
END:VEVENT
BEGIN:VEVENT
DTSTART;VALUE=DATE:20241130
DTEND;VALUE=DATE:20241201
DTSTAMP:20260419T172519
CREATED:20240331T132841Z
LAST-MODIFIED:20240925T025844Z
UID:1852-1732924800-1733011199@www.falkenhainer-sv.de
SUMMARY:Turnen - Weihnachtsschauturnen
DESCRIPTION:
URL:https://www.falkenhainer-sv.de/event/turnen-weihnachtsschauturnen/
LOCATION:Sachsen
CATEGORIES:Gerätturnen
END:VEVENT
BEGIN:VEVENT
DTSTART;TZID=Europe/Berlin:20241109T080000
DTEND;TZID=Europe/Berlin:20241109T220000
DTSTAMP:20260419T172519
CREATED:20240706T141415Z
LAST-MODIFIED:20240706T141415Z
UID:1955-1731139200-1731189600@www.falkenhainer-sv.de
SUMMARY:Volleyball - Schokoladenturnier
DESCRIPTION:
URL:https://www.falkenhainer-sv.de/event/volleyball-schokoladenturnier/
LOCATION:Sachsen
CATEGORIES:Volleyball
END:VEVENT
BEGIN:VEVENT
DTSTART;VALUE=DATE:20240914
DTEND;VALUE=DATE:20240915
DTSTAMP:20260419T172519
CREATED:20240331T132756Z
LAST-MODIFIED:20240331T132756Z
UID:1850-1726272000-1726358399@www.falkenhainer-sv.de
SUMMARY:Turnen - Mini Turnbezirksmeisterschaft
DESCRIPTION:
URL:https://www.falkenhainer-sv.de/event/turnen-mini-turnbezirksmeisterschaft/
LOCATION:Sachsen
CATEGORIES:Gerätturnen
END:VEVENT
BEGIN:VEVENT
DTSTART;VALUE=DATE:20240810
DTEND;VALUE=DATE:20240811
DTSTAMP:20260419T172519
CREATED:20240331T132948Z
LAST-MODIFIED:20240331T132948Z
UID:1854-1723248000-1723334399@www.falkenhainer-sv.de
SUMMARY:Dart - 1. Lossataler Dartcup
DESCRIPTION:
URL:https://www.falkenhainer-sv.de/event/dart-1-lossataler-dartcup/
LOCATION:Sachsen
CATEGORIES:Dart
END:VEVENT
END:VCALENDAR